BEGIN:VCALENDAR
VERSION:2.0
PRODID:-//Mconf UFRGS//mconf.ufrgs.br
CALSCALE:GREGORIAN
METHOD:REQUEST
BEGIN:VEVENT
DTSTAMP:20260422T023843Z
UID:9094131f29390719965a34667d838fc7@mconf.ufrgs.br
DTSTART:20231128T170000Z
DTEND:20231129T170000Z
CLASS:PRIVATE
CREATED:20231114T182323
DESCRIPTION:Página do evento: http://mconf.ufrgs.br/events/defesa-de-disser
 tacao-de-marcelo-andrizzi-da-rosa
LAST-MODIFIED:20231114T182323
LOCATION:MConf  - PPGCONT 
ORGANIZER;CN=MARIA IVANICE VENDRUSCOLO:mailto:maria.ivanice@ufrgs.br
SUMMARY:Defesa de Dissertação de Marcelo Andrizzi da Rosa
URL:http://mconf.ufrgs.br/events/defesa-de-dissertacao-de-marcelo-andrizzi-
 da-rosa
END:VEVENT
END:VCALENDAR
