BEGIN:VCALENDAR
VERSION:2.0
PRODID:-//Mconf UFRGS//mconf.ufrgs.br
CALSCALE:GREGORIAN
METHOD:REQUEST
BEGIN:VEVENT
DTSTAMP:20260420T083809Z
UID:4b464a14ddd1e1ecefe5a16d646376f7@mconf.ufrgs.br
DTSTART:20250509T110000Z
DTEND:20250509T183000Z
CLASS:PRIVATE
CREATED:20250430T185009
DESCRIPTION:Página do evento: http://mconf.ufrgs.br/events/defesa-de-mestra
 do-ana-borges
LAST-MODIFIED:20250430T185407
LOCATION:
ORGANIZER;CN=Fernanda Kreuzberg:mailto:fernanda.kreuzberg@ufrgs.br
SUMMARY:Defesa de Mestrado Ana Borges
URL:http://mconf.ufrgs.br/events/defesa-de-mestrado-ana-borges
END:VEVENT
END:VCALENDAR
